BEGIN:VCALENDAR
PRODID:-//Bureau of Legislative Research//Meetings//EN
VERSION:2.0
CALSCALE:GREGORIAN
METHOD:PUBLISH
X-WR-TIMEZONE:America/Chicago
BEGIN:VTIMEZONE
TZID:America/Chicago
X-LIC-LOCATION:America/Chicago
BEGIN:DAYLIGHT
TZOFFSETTO:-0500
TZOFFSETFROM:+0000
TZNAME:CDT
DTSTART:19700308T020000
RRULE:FREQ=YEARLY;BYMONTH=3;BYDAY=2SU
END:DAYLIGHT
BEGIN:STANDARD
TZOFFSETTO:-0600
TZOFFSETFROM:-0500
TZNAME:CST
DTSTART:19701101T020000
RRULE:FREQ=YEARLY;BYMONTH=3;BYDAY=2SU
END:STANDARD
END:VTIMEZONE
BEGIN:VEVENT
DTSTART:20241003T150000Z
DTEND:20241003T160000Z
DTSTAMP:20241003T150000Z
UID:e6b13ef7-e6f9-406a-8116-bf42c79d2c5e
CREATED:20241007T161231Z
DESCRIPTION;FMTTYPE=text/html:<a href="http://arkleg.state.ar.us/Home/FTPDocument?path=%2FAssembly%2FMeeting+Attachments%2F440%2F26585%2F26585.pdf" target="_blank">Agenda</a>
X-ALT-DESC;FMTTYPE=text/html:<a href="http://arkleg.state.ar.us/Home/FTPDocument?path=%2FAssembly%2FMeeting+Attachments%2F440%2F26585%2F26585.pdf" target="_blank">Agenda</a>
LAST-MODIFIED:20241007T161231Z
LOCATION:ACHE Research Institute Health & Wellness Center\, 1000 Fianna Way\, Fort Smith
SEQUENCE:0
STATUS:CONFIRMED
SUMMARY:TRANSPORTATION\, TECHNOLOGY & LEGISLATIVE AFFAIRS - SENATE & PUBLIC TRANSPORTATION-HOUSE
TRANSP:OPAQUE
END:VEVENT
END:VCALENDAR