BEGIN:VCALENDAR
PRODID:-//Bureau of Legislative Research//Meetings//EN
VERSION:2.0
CALSCALE:GREGORIAN
METHOD:PUBLISH
X-WR-TIMEZONE:America/Chicago
BEGIN:VTIMEZONE
TZID:America/Chicago
X-LIC-LOCATION:America/Chicago
BEGIN:DAYLIGHT
TZOFFSETTO:-0500
TZOFFSETFROM:+0000
TZNAME:CDT
DTSTART:19700308T020000
RRULE:FREQ=YEARLY;BYMONTH=3;BYDAY=2SU
END:DAYLIGHT
BEGIN:STANDARD
TZOFFSETTO:-0600
TZOFFSETFROM:-0500
TZNAME:CST
DTSTART:19701101T020000
RRULE:FREQ=YEARLY;BYMONTH=3;BYDAY=2SU
END:STANDARD
END:VTIMEZONE
BEGIN:VEVENT
DTSTART:20241216T160000Z
DTEND:20241216T170000Z
DTSTAMP:20241216T160000Z
UID:ee0013d1-6113-47ba-8648-0a4055bdf2d7
CREATED:20241217T154854Z
DESCRIPTION;FMTTYPE=text/html:<a href="http://arkleg.state.ar.us/Home/FTPDocument?path=%2FAssembly%2FMeeting+Attachments%2F080%2F26691%2F26691.pdf" target="_blank">Agenda</a>
X-ALT-DESC;FMTTYPE=text/html:<a href="http://arkleg.state.ar.us/Home/FTPDocument?path=%2FAssembly%2FMeeting+Attachments%2F080%2F26691%2F26691.pdf" target="_blank">Agenda</a>
LAST-MODIFIED:20241217T154854Z
LOCATION:Room A\, MAC
SEQUENCE:0
STATUS:CONFIRMED
SUMMARY:ALC-HOSPITAL AND MEDICAID STUDY SUBCOMMITTEE
TRANSP:OPAQUE
END:VEVENT
END:VCALENDAR